BEGIN:VCALENDAR
VERSION:2.0
PRODID:-//Kino Tuškanac//Filmski programi//HR
URL:http://kinotuskanac/calendar/cycle/929
NAME:Kino Tuškanac ciklus Portreti: Alice Rohrwacher
X-WR-CALNAME:Kino Tuškanac ciklus Portreti: Alice Rohrwacher
TIMEZONE-ID:Europe/Zagreb
X-WR-TIMEZONE:Europe/Zagreb
REFRESH-INTERVAL;VALUE=DURATION:PT12H
X-PUBLISHED-TTL:PT12H
METHOD:PUBLISH
BEGIN:VEVENT
UID:9e17ce62ceaf75c152a5a5ee876b76e0@kinotuskanac.hr
DTSTAMP:20260423T150150Z
DTSTART:20230306T190000
DTEND:20230306T210000
SUMMARY:Sretni Lazzaro
LOCATION:Kino Tuškanac
DESCRIPTION:Lazzaro felice, Italija, Švicarska, Francuska, Njemačka, 2018 R: Alice Rohrwacher
END:VEVENT

BEGIN:VEVENT
UID:bbec09c8233346e59be9ad2a3fc76510@kinotuskanac.hr
DTSTAMP:20260423T150150Z
DTSTART:20230307T190000
DTEND:20230307T210000
SUMMARY:Čuda
LOCATION:Kino Tuškanac
DESCRIPTION:Le meraviglie, Italija, Švicarska, Njemačka, 2014 R: Alice Rohrwacher
END:VEVENT

BEGIN:VEVENT
UID:dafd9b69687473fec0372ead5abe7385@kinotuskanac.hr
DTSTAMP:20260423T150150Z
DTSTART:20230307T210000
DTEND:20230307T230000
SUMMARY:Nebesko tijelo
LOCATION:Kino Tuškanac
DESCRIPTION:Corpo celeste, Italija, Švicarska, Francuska, 2011 R: Alice Rohrwacher
END:VEVENT
END:VCALENDAR