BEGIN:VCALENDAR
VERSION:2.0
PRODID:-//Kino Tuškanac//Filmski programi//HR
URL:http://kinotuskanac/calendar/cycle/932
NAME:Kino Tuškanac ciklus Portreti: Andrea Arnold
X-WR-CALNAME:Kino Tuškanac ciklus Portreti: Andrea Arnold
TIMEZONE-ID:Europe/Zagreb
X-WR-TIMEZONE:Europe/Zagreb
REFRESH-INTERVAL;VALUE=DURATION:PT12H
X-PUBLISHED-TTL:PT12H
METHOD:PUBLISH
BEGIN:VEVENT
UID:6c8db5c854abb442c491678080317f70@kinotuskanac.hr
DTSTAMP:20260420T144305Z
DTSTART:20230313T190000
DTEND:20230313T210000
SUMMARY:Američka slatkica
LOCATION:Kino Tuškanac
DESCRIPTION:American Honey, UK, SAD, 2016 R: Andrea Arnold
END:VEVENT

BEGIN:VEVENT
UID:8a3a613aa53e3db689dd52add24a723a@kinotuskanac.hr
DTSTAMP:20260420T144305Z
DTSTART:20230314T190000
DTEND:20230314T210000
SUMMARY:Akvarij
LOCATION:Kino Tuškanac
DESCRIPTION:Fish Tank, UK, Nizozemska, 2009 R: Andrea Arnold
END:VEVENT

BEGIN:VEVENT
UID:46da0ea536dd83ddb1eb972e89c494b7@kinotuskanac.hr
DTSTAMP:20260420T144305Z
DTSTART:20230314T211500
DTEND:20230314T231500
SUMMARY:Krava (2021)
LOCATION:Kino Tuškanac
DESCRIPTION:Cow, UK, 2021 R: Andrea Arnold
END:VEVENT

BEGIN:VEVENT
UID:59e67e856f09c556672881f43fda338b@kinotuskanac.hr
DTSTAMP:20260420T144305Z
DTSTART:20230315T190000
DTEND:20230315T210000
SUMMARY:Crvena cesta
LOCATION:Kino Tuškanac
DESCRIPTION:Red Road, UK, Danska, 2006 R: Andrea Arnold
END:VEVENT

BEGIN:VEVENT
UID:9e93d769f5b186e8a0f042798c5073d3@kinotuskanac.hr
DTSTAMP:20260420T144305Z
DTSTART:20230315T210000
DTEND:20230315T230000
SUMMARY:Orkanski visovi
LOCATION:Kino Tuškanac
DESCRIPTION:Wuthering Heights, UK, 2011 R: Andrea Arnold
END:VEVENT
END:VCALENDAR