BEGIN:VCALENDAR
VERSION:2.0
PRODID:-//Kino Tuškanac//Filmski programi//HR
URL:http://kinotuskanac/calendar/cycle/939
NAME:Kino Tuškanac ciklus Ponovo radi bioskop: TV film u kinu
X-WR-CALNAME:Kino Tuškanac ciklus Ponovo radi bioskop: TV film u kinu
TIMEZONE-ID:Europe/Zagreb
X-WR-TIMEZONE:Europe/Zagreb
REFRESH-INTERVAL;VALUE=DURATION:PT12H
X-PUBLISHED-TTL:PT12H
METHOD:PUBLISH
BEGIN:VEVENT
UID:b97d9934ff95b10f0d12014835e85670@kinotuskanac.hr
DTSTAMP:20260419T215551Z
DTSTART:20230329T190000
DTEND:20230329T210000
SUMMARY:Leptirica
LOCATION:Kino Tuškanac
DESCRIPTION:Jugoslavija, 1973 R: Đorđe Kadijević
END:VEVENT

BEGIN:VEVENT
UID:ce946745b77d941117db58b3dacc24d0@kinotuskanac.hr
DTSTAMP:20260419T215551Z
DTSTART:20230330T180000
DTEND:20230330T200000
SUMMARY:Kante ili kese
LOCATION:Kino Tuškanac
DESCRIPTION:Jugoslavija, 1982 R: Dragoslav Lazić
END:VEVENT

BEGIN:VEVENT
UID:7ae721511d9b02e5d1cc7247413fe7e8@kinotuskanac.hr
DTSTAMP:20260419T215551Z
DTSTART:20230330T190000
DTEND:20230330T210000
SUMMARY:Izvinjavamo se, mnogo se izvinjavamo
LOCATION:Kino Tuškanac
DESCRIPTION:Jugoslavija, 1976 R: Soja Jovanović
END:VEVENT

BEGIN:VEVENT
UID:8b8b867162c1255aef3fb896580f040c@kinotuskanac.hr
DTSTAMP:20260419T215551Z
DTSTART:20230330T201500
DTEND:20230330T221500
SUMMARY:Krojači džinsa
LOCATION:Kino Tuškanac
DESCRIPTION:Jugoslavija, 1982 R: Srboljub Božinović
END:VEVENT

BEGIN:VEVENT
UID:5a11950ee489fbce35f936ae15530d91@kinotuskanac.hr
DTSTAMP:20260419T215551Z
DTSTART:20230330T213000
DTEND:20230330T233000
SUMMARY:Narodni poslanik
LOCATION:Kino Tuškanac
DESCRIPTION:Jugoslavija, 1990 R: Slavenko Saletović
END:VEVENT

BEGIN:VEVENT
UID:3526b4328417be1fa932bc545e21f0c1@kinotuskanac.hr
DTSTAMP:20260419T215551Z
DTSTART:20230331T180000
DTEND:20230331T200000
SUMMARY:Štićenik
LOCATION:Kino Tuškanac
DESCRIPTION:Jugoslavija, 1973 R: Đorđe Kadijević
END:VEVENT

BEGIN:VEVENT
UID:7056cec4212a07f30caf44d1953b8ea6@kinotuskanac.hr
DTSTAMP:20260419T215551Z
DTSTART:20230331T190000
DTEND:20230331T210000
SUMMARY:Ubistvo u noćnom vozu
LOCATION:Kino Tuškanac
DESCRIPTION:Jugoslavija, 1972 R: Lordan Zafranović
END:VEVENT

BEGIN:VEVENT
UID:5b876324de93a91044fc8abe2c29dc19@kinotuskanac.hr
DTSTAMP:20260419T215551Z
DTSTART:20230331T201500
DTEND:20230331T221500
SUMMARY:Svečana obaveza
LOCATION:Kino Tuškanac
DESCRIPTION:Jugoslavija, 1986 R: Božidar 'Bota' Nikolić
END:VEVENT

BEGIN:VEVENT
UID:a9b11ae2d50f8a60acbc91e1289600b2@kinotuskanac.hr
DTSTAMP:20260419T215551Z
DTSTART:20230331T213000
DTEND:20230331T233000
SUMMARY:Gospođa ministarka
LOCATION:Kino Tuškanac
DESCRIPTION:Jugoslavija, 1989 R: Zdravko Šotra
END:VEVENT

BEGIN:VEVENT
UID:15d5cc0fd558d05e4b54fdfcc92672fd@kinotuskanac.hr
DTSTAMP:20260419T215551Z
DTSTART:20230401T170000
DTEND:20230401T190000
SUMMARY:Ratnički talenat
LOCATION:Kino Tuškanac
DESCRIPTION:Jugoslavija, 1974 R: Vladimir Andrić
END:VEVENT

BEGIN:VEVENT
UID:e5cea0d09f6a3308fe849d30f5f6c9e9@kinotuskanac.hr
DTSTAMP:20260419T215551Z
DTSTART:20230401T180000
DTEND:20230401T200000
SUMMARY:Zvezdana prašina
LOCATION:Kino Tuškanac
DESCRIPTION:Jugoslavija, 1976 R: Jovan Konjović
END:VEVENT

BEGIN:VEVENT
UID:65577cef01888698fea186965a76062b@kinotuskanac.hr
DTSTAMP:20260419T215551Z
DTSTART:20230401T190000
DTEND:20230401T210000
SUMMARY:Vučari Gornje i Donje Polače
LOCATION:Kino Tuškanac
DESCRIPTION:Jugoslavija, 1978 R: Zdravko Šotra
END:VEVENT

BEGIN:VEVENT
UID:e27cfaffc4f38bb81d1c262b131f18e8@kinotuskanac.hr
DTSTAMP:20260419T215551Z
DTSTART:20230401T203000
DTEND:20230401T223000
SUMMARY:Drveni sanduk Tomasa Vulfa
LOCATION:Kino Tuškanac
DESCRIPTION:Jugoslavija, 1974 R: Branko Ivanda
END:VEVENT

BEGIN:VEVENT
UID:caae42c9eb77c2249785582f26f27c0f@kinotuskanac.hr
DTSTAMP:20260419T215551Z
DTSTART:20230401T213000
DTEND:20230401T233000
SUMMARY:Ožalošćena porodica
LOCATION:Kino Tuškanac
DESCRIPTION:Jugoslavija, 1990 R: Milan Karadžić
END:VEVENT

BEGIN:VEVENT
UID:7d0d174752b56a664b0fc807ff5c07d9@kinotuskanac.hr
DTSTAMP:20260419T215551Z
DTSTART:20230402T170000
DTEND:20230402T190000
SUMMARY:Daleko je Australija
LOCATION:Kino Tuškanac
DESCRIPTION:Jugoslavija, 1969 R: Soja Jovanović
END:VEVENT

BEGIN:VEVENT
UID:5def6f27087584dc6cb39e00606c8b7c@kinotuskanac.hr
DTSTAMP:20260419T215551Z
DTSTART:20230402T181500
DTEND:20230402T201500
SUMMARY:Povratak lopova
LOCATION:Kino Tuškanac
DESCRIPTION:Jugoslavija, 1975 R: Soja Jovanović
END:VEVENT

BEGIN:VEVENT
UID:ba81b0942b8ae22ca1ccdf4af6bcbd5a@kinotuskanac.hr
DTSTAMP:20260419T215551Z
DTSTART:20230402T191500
DTEND:20230402T211500
SUMMARY:Čovek koji je pojeo vuka
LOCATION:Kino Tuškanac
DESCRIPTION:Jugoslavija, 1981 R: Đorđe Kadijević
END:VEVENT

BEGIN:VEVENT
UID:772998569165d931768066700a0e4d4c@kinotuskanac.hr
DTSTAMP:20260419T215551Z
DTSTART:20230402T203000
DTEND:20230402T223000
SUMMARY:Šta se dogodilo sa Filipom Preradovićem
LOCATION:Kino Tuškanac
DESCRIPTION:Jugoslavija, 1977 R: Slobodan Šijan
END:VEVENT
END:VCALENDAR