BEGIN:VCALENDAR
VERSION:2.0
PRODID:-//Kino Tuškanac//Filmski programi//HR
URL:http://kinotuskanac/calendar/cycle/943
NAME:Kino Tuškanac ciklus 16. Subversive Festival
X-WR-CALNAME:Kino Tuškanac ciklus 16. Subversive Festival
TIMEZONE-ID:Europe/Zagreb
X-WR-TIMEZONE:Europe/Zagreb
REFRESH-INTERVAL;VALUE=DURATION:PT12H
X-PUBLISHED-TTL:PT12H
METHOD:PUBLISH
BEGIN:VEVENT
UID:d32315fc73cbeee9545fab3f308a35ce@kinotuskanac.hr
DTSTAMP:20260420T191219Z
DTSTART:20230514T200000
DTEND:20230514T220000
SUMMARY:Na Adamantu: Nitko nije savršen
LOCATION:Kino Tuškanac
DESCRIPTION:Sur l'Adamant, Francuska, Japan, 2022 R: Nicolas Philibert
END:VEVENT

BEGIN:VEVENT
UID:df0a076cda03b8471ee1d909c2ebbcfd@kinotuskanac.hr
DTSTAMP:20260420T191219Z
DTSTART:20230515T170000
DTEND:20230515T190000
SUMMARY:Plaža Enchaquirados
LOCATION:Kino Tuškanac
DESCRIPTION:The Beach of Enchaquirados, Ekvador, 2021 R: Iván Mora Manzano
END:VEVENT

BEGIN:VEVENT
UID:0ef16bdea089fc4550efb1382cdc0d66@kinotuskanac.hr
DTSTAMP:20260420T191219Z
DTSTART:20230515T190000
DTEND:20230515T210000
SUMMARY:Trokatnica
LOCATION:Kino Tuškanac
DESCRIPTION:Top, Južna Koreja, 2022 R: Hong Sang-soo
END:VEVENT

BEGIN:VEVENT
UID:62271099e2c9c29bcd82dbbce529a990@kinotuskanac.hr
DTSTAMP:20260420T191219Z
DTSTART:20230515T210000
DTEND:20230515T230000
SUMMARY:Suho tlo u plamenu
LOCATION:Kino Tuškanac
DESCRIPTION:Mato Seco em Chamas, Brazil, Portugal, 2022 R: Joana Pimenta, Adirley Queirós
END:VEVENT

BEGIN:VEVENT
UID:e2e0f36adf2d85651067cbbf8a4fbbb4@kinotuskanac.hr
DTSTAMP:20260420T191219Z
DTSTART:20230516T170000
DTEND:20230516T190000
SUMMARY:Sjeverni terminal
LOCATION:Kino Tuškanac
DESCRIPTION:Terminal Norte, Argentina, 2021 R: Lucrecia Martel
END:VEVENT

BEGIN:VEVENT
UID:958a344a9ae4dfee7b1c7b0897f8387d@kinotuskanac.hr
DTSTAMP:20260420T191219Z
DTSTART:20230516T170000
DTEND:20230516T190000
SUMMARY:Sakupljači bilja
LOCATION:Kino Tuškanac
DESCRIPTION:Foragers, Palestina, 2022 R: Jumana Manna
END:VEVENT

BEGIN:VEVENT
UID:cfed6772d0daf430e0e015869ba95ceb@kinotuskanac.hr
DTSTAMP:20260420T191219Z
DTSTART:20230516T190000
DTEND:20230516T210000
SUMMARY:Sedam zima u Teheranu
LOCATION:Kino Tuškanac
DESCRIPTION:Sieben Winter in Teheran, Njemačka, Francuska, 2023 R: Steffi Niederzoll
END:VEVENT

BEGIN:VEVENT
UID:4fdcc8f2ffeee4e7c455b12474cb372f@kinotuskanac.hr
DTSTAMP:20260420T191219Z
DTSTART:20230516T210000
DTEND:20230516T230000
SUMMARY:Lagani kas
LOCATION:Kino Tuškanac
DESCRIPTION:Piaffe, Njemačka, 2022 R: Ann Oren
END:VEVENT

BEGIN:VEVENT
UID:8ca101217cab60b6d8c8631b6b661e92@kinotuskanac.hr
DTSTAMP:20260420T191219Z
DTSTART:20230517T170000
DTEND:20230517T190000
SUMMARY:Ima jedan kamen
LOCATION:Kino Tuškanac
DESCRIPTION:Ishi ga aru, Japan, 2022 R: Tatsunari Ota
END:VEVENT

BEGIN:VEVENT
UID:192bc961d780143167f7dde413f9753d@kinotuskanac.hr
DTSTAMP:20260420T191219Z
DTSTART:20230517T190000
DTEND:20230517T210000
SUMMARY:Majčevina
LOCATION:Kino Tuškanac
DESCRIPTION:Motherland, Švedska, Ukrajina, Norveška, 2023 R: Alexander Mihalkovich, Hanna Badziaka
END:VEVENT

BEGIN:VEVENT
UID:85c1f847fd3c188abb8d56c90e44fdb4@kinotuskanac.hr
DTSTAMP:20260420T191219Z
DTSTART:20230517T210000
DTEND:20230517T230000
SUMMARY:Mašinke
LOCATION:Kino Tuškanac
DESCRIPTION:Nação Valente, Portugal, Francuska, Angola, 2022 R: Carlos Conceição
END:VEVENT

BEGIN:VEVENT
UID:56b3c445dd711ab63a41e0f0fe8d78ae@kinotuskanac.hr
DTSTAMP:20260420T191219Z
DTSTART:20230518T180000
DTEND:20230518T200000
SUMMARY:Robinson Crusoe je seronja
LOCATION:Kino Tuškanac
DESCRIPTION:Het leven en de vreemde verrassende avonturen van Robinson Crusoe..., Belgija, 2023 R: Benjamin Deboosere
END:VEVENT

BEGIN:VEVENT
UID:8e6bf5adeab2eee46793f0d390516a93@kinotuskanac.hr
DTSTAMP:20260420T191219Z
DTSTART:20230518T193000
DTEND:20230518T213000
SUMMARY:Ničiji junak
LOCATION:Kino Tuškanac
DESCRIPTION:Viens je t’emmène, Francuska, 2022 R: Alain Guiraudie
END:VEVENT

BEGIN:VEVENT
UID:d175faf71ba43c1a9700bde812f1d3c5@kinotuskanac.hr
DTSTAMP:20260420T191219Z
DTSTART:20230518T213000
DTEND:20230518T233000
SUMMARY:Dućan
LOCATION:Kino Tuškanac
DESCRIPTION:Butiken, Švedska, 2023 R: Ami-Ro Sköld
END:VEVENT

BEGIN:VEVENT
UID:90831421fb27d63a14894abcf83f66bf@kinotuskanac.hr
DTSTAMP:20260420T191219Z
DTSTART:20230519T173000
DTEND:20230519T193000
SUMMARY:Bez (2022)
LOCATION:Kino Tuškanac
DESCRIPTION:Without, Srbija, 2022 R: Luka Papić
END:VEVENT

BEGIN:VEVENT
UID:e465e8775f73dbf90f7f79f481f6cc90@kinotuskanac.hr
DTSTAMP:20260420T191219Z
DTSTART:20230519T190000
DTEND:20230519T210000
SUMMARY:Knit's Island
LOCATION:Kino Tuškanac
DESCRIPTION:Francuska, 2023 R: Ekiem Barbier, Guilhem Causse, Quentin L’helgoualc’h
END:VEVENT

BEGIN:VEVENT
UID:3c6fd1fda32a184b56e86a8a35a47a91@kinotuskanac.hr
DTSTAMP:20260420T191219Z
DTSTART:20230519T210000
DTEND:20230519T230000
SUMMARY:El Eco
LOCATION:Kino Tuškanac
DESCRIPTION:Meksiko, Njemačka, 2023 R: Tatiana Huezo
END:VEVENT

BEGIN:VEVENT
UID:b78dbc88ac69a43a4302bce4c8bd0454@kinotuskanac.hr
DTSTAMP:20260420T191219Z
DTSTART:20230520T170000
DTEND:20230520T190000
SUMMARY:Prizvan i pozvan
LOCATION:Kino Tuškanac
DESCRIPTION:Srbija, 2022 R: Luka Papić, Srđa Vučo
END:VEVENT

BEGIN:VEVENT
UID:9727ed36769bb84622a933b92a969fc7@kinotuskanac.hr
DTSTAMP:20260420T191219Z
DTSTART:20230520T190000
DTEND:20230520T210000
SUMMARY:R.M.N. Stanje nacije
LOCATION:Kino Tuškanac
DESCRIPTION:R.M.N., Rumunjska, Francuska, Belgija, Švedska, 2022 R: Cristian Mungiu
END:VEVENT

BEGIN:VEVENT
UID:ef4c7797f417acce27e43aa759b015f0@kinotuskanac.hr
DTSTAMP:20260420T191219Z
DTSTART:20230520T211500
DTEND:20230520T231500
SUMMARY:Bajka
LOCATION:Kino Tuškanac
DESCRIPTION:Skazka, Rusija, Belgija, 2022 | Mjesto prikazivanja filma: Kulturno informativni centar KIC (Preradovićeva ul. 5) R: Aleksandr Sokurov
END:VEVENT

BEGIN:VEVENT
UID:7655fafb4a45269e791e724cdb30a76d@kinotuskanac.hr
DTSTAMP:20260420T191219Z
DTSTART:20230521T163000
DTEND:20230521T183000
SUMMARY:Nakon plime
LOCATION:Kino Tuškanac
DESCRIPTION:Kapag wala nang mga alon, Filipini, Francuska, Portugal, Danska, 2022 | Mjesto prikazivanja filma: Kino Forum (SD Stjepan Radić, Jarunska ul. 2) R: Lav Diaz
END:VEVENT

BEGIN:VEVENT
UID:21823b5e9d92221c6b899258e3aa7410@kinotuskanac.hr
DTSTAMP:20260420T191219Z
DTSTART:20230521T200000
DTEND:20230521T220000
SUMMARY:Sve što diše
LOCATION:Kino Tuškanac
DESCRIPTION:All that Breathes, Indija, UK, SAD, 2022 R: Shaunak Sen
END:VEVENT
END:VCALENDAR