BEGIN:VCALENDAR
VERSION:2.0
PRODID:-//Kino Tuškanac//Filmski programi//HR
URL:http://kinotuskanac/calendar/cycle/949
NAME:Kino Tuškanac ciklus Universalova filmska čudovišta
X-WR-CALNAME:Kino Tuškanac ciklus Universalova filmska čudovišta
TIMEZONE-ID:Europe/Zagreb
X-WR-TIMEZONE:Europe/Zagreb
REFRESH-INTERVAL;VALUE=DURATION:PT12H
X-PUBLISHED-TTL:PT12H
METHOD:PUBLISH
BEGIN:VEVENT
UID:be84ead9fe5206ceabef86643afc27b8@kinotuskanac.hr
DTSTAMP:20260423T150116Z
DTSTART:20230901T190000
DTEND:20230901T210000
SUMMARY:Drakula
LOCATION:Kino Tuškanac
DESCRIPTION:Dracula, SAD, 1931 R: Tod Browning
END:VEVENT

BEGIN:VEVENT
UID:113159154f95e288c2fa98ad5d2d0971@kinotuskanac.hr
DTSTAMP:20260423T150116Z
DTSTART:20230901T210000
DTEND:20230901T230000
SUMMARY:Frankenstein
LOCATION:Kino Tuškanac
DESCRIPTION:SAD, 1931 R: James Whale
END:VEVENT

BEGIN:VEVENT
UID:5c0d8c24fa81da45c76264609c184864@kinotuskanac.hr
DTSTAMP:20260423T150116Z
DTSTART:20230902T190000
DTEND:20230902T210000
SUMMARY:Mumija
LOCATION:Kino Tuškanac
DESCRIPTION:The Mummy, SAD, 1932 R: Karl Freund
END:VEVENT

BEGIN:VEVENT
UID:dc2b15969b821377c5dc6f85bc331509@kinotuskanac.hr
DTSTAMP:20260423T150116Z
DTSTART:20230902T210000
DTEND:20230902T230000
SUMMARY:Nevidljivi čovjek
LOCATION:Kino Tuškanac
DESCRIPTION:The Invisible Man, SAD, 1933 R: James Whale
END:VEVENT

BEGIN:VEVENT
UID:2654326991af40ed2d2738acf8595b6d@kinotuskanac.hr
DTSTAMP:20260423T150116Z
DTSTART:20230903T190000
DTEND:20230903T210000
SUMMARY:Frankensteinova nevjesta
LOCATION:Kino Tuškanac
DESCRIPTION:The Bride of Frankenstein, SAD, 1935 R: James Whale
END:VEVENT

BEGIN:VEVENT
UID:001f7e95a7173cba7ea53a78ffbf4938@kinotuskanac.hr
DTSTAMP:20260423T150116Z
DTSTART:20230903T210000
DTEND:20230903T230000
SUMMARY:Drakulina kći
LOCATION:Kino Tuškanac
DESCRIPTION:Dracula's Daughter, SAD, 1936 R: Lambert Hillyer
END:VEVENT

BEGIN:VEVENT
UID:e1df51685180ea07b6b9dfcb2a81a0bb@kinotuskanac.hr
DTSTAMP:20260423T150116Z
DTSTART:20230905T210000
DTEND:20230905T230000
SUMMARY:Frankensteinov sin
LOCATION:Kino Tuškanac
DESCRIPTION:Son of Frankenstein, SAD, 1939 R: Rowland V. Lee
END:VEVENT

BEGIN:VEVENT
UID:0ddb053fe81ab1ba6ffca01d8cda70a9@kinotuskanac.hr
DTSTAMP:20260423T150116Z
DTSTART:20230906T210000
DTEND:20230906T230000
SUMMARY:Povratak nevidljivog čovjeka
LOCATION:Kino Tuškanac
DESCRIPTION:The Invisible Man Returns, SAD, 1940 R: Joe May
END:VEVENT

BEGIN:VEVENT
UID:97d7e77b6b0b48e0569628cf3f3913c0@kinotuskanac.hr
DTSTAMP:20260423T150116Z
DTSTART:20230907T210000
DTEND:20230907T230000
SUMMARY:Vukodlak
LOCATION:Kino Tuškanac
DESCRIPTION:The Wolf Man, SAD, 1941 R: George Waggner
END:VEVENT

BEGIN:VEVENT
UID:2d41162cd54e64f7b562597f3e5fd0c6@kinotuskanac.hr
DTSTAMP:20260423T150116Z
DTSTART:20230908T190000
DTEND:20230908T210000
SUMMARY:Nevidljivi agent
LOCATION:Kino Tuškanac
DESCRIPTION:Invisible Agent, SAD, 1942 R: Edwin L. Marin
END:VEVENT

BEGIN:VEVENT
UID:6492aa8ea042feed7a91f899c0cabdb5@kinotuskanac.hr
DTSTAMP:20260423T150116Z
DTSTART:20230908T210000
DTEND:20230908T230000
SUMMARY:Mumijina grobnica
LOCATION:Kino Tuškanac
DESCRIPTION:The Mummy's Tomb, SAD, 1942 R: Harold Young
END:VEVENT

BEGIN:VEVENT
UID:5f6204580c59bdc0b896806454075112@kinotuskanac.hr
DTSTAMP:20260423T150116Z
DTSTART:20230909T190000
DTEND:20230909T210000
SUMMARY:Frankenstein susreće vukodlaka
LOCATION:Kino Tuškanac
DESCRIPTION:Frankenstein Meets The Wolf Man, SAD, 1943 R: Roy William Neil
END:VEVENT

BEGIN:VEVENT
UID:226763f4cba4db01264bff54ad8cf632@kinotuskanac.hr
DTSTAMP:20260423T150116Z
DTSTART:20230909T210000
DTEND:20230909T230000
SUMMARY:Fantom opere
LOCATION:Kino Tuškanac
DESCRIPTION:Phantom of the Opera, SAD, 1943 R: Arthur Lubin
END:VEVENT

BEGIN:VEVENT
UID:f77aff34c2b41f5495372ce7cd8f9104@kinotuskanac.hr
DTSTAMP:20260423T150116Z
DTSTART:20230910T190000
DTEND:20230910T210000
SUMMARY:Drakulin sin
LOCATION:Kino Tuškanac
DESCRIPTION:Son of Dracula, SAD, 1943 R: Robert Siodmak
END:VEVENT

BEGIN:VEVENT
UID:9af6b5e4f9240437a4997030a466a8fc@kinotuskanac.hr
DTSTAMP:20260423T150116Z
DTSTART:20230910T210000
DTEND:20230910T230000
SUMMARY:Vučica iz Londona
LOCATION:Kino Tuškanac
DESCRIPTION:She-Wolf of London, SAD, 1946 R: Jean Yarbrough
END:VEVENT

BEGIN:VEVENT
UID:0bcec620b959ccadd99577bacd5899c0@kinotuskanac.hr
DTSTAMP:20260423T150116Z
DTSTART:20230912T210000
DTEND:20230912T230000
SUMMARY:Abbott i Costello susreću Frankensteina
LOCATION:Kino Tuškanac
DESCRIPTION:Abbott and Costello Meet Frankenstein, SAD, 1948 R: Charles Barton
END:VEVENT

BEGIN:VEVENT
UID:8487779e97f2ab416a608c90e3e8fa8c@kinotuskanac.hr
DTSTAMP:20260423T150116Z
DTSTART:20230913T210000
DTEND:20230913T230000
SUMMARY:Stvorenje iz Crne lagune
LOCATION:Kino Tuškanac
DESCRIPTION:Creature From the Black Lagoon, SAD, 1954 R: Jack Arnold
END:VEVENT

BEGIN:VEVENT
UID:f3bb4addcb788c7a2ab6df53cff377e8@kinotuskanac.hr
DTSTAMP:20260423T150116Z
DTSTART:20230914T210000
DTEND:20230914T230000
SUMMARY:Osveta stvorenja
LOCATION:Kino Tuškanac
DESCRIPTION:Revenge of the Creature, SAD, 1955 R: Jack Arnold
END:VEVENT

BEGIN:VEVENT
UID:7530563f844207e5e16c9546abb23767@kinotuskanac.hr
DTSTAMP:20260423T150116Z
DTSTART:20230915T211500
DTEND:20230915T231500
SUMMARY:Abbott i Costello susreću mumiju
LOCATION:Kino Tuškanac
DESCRIPTION:Abbott & Costello Meet the Mummy, SAD, 1955 R: Charles Lamont
END:VEVENT
END:VCALENDAR