BEGIN:VCALENDAR
VERSION:2.0
PRODID:-//Kino Tuškanac//Filmski programi//HR
URL:http://kinotuskanac/calendar/cycle/960
NAME:Kino Tuškanac ciklus Portreti: Márta Mészáros
X-WR-CALNAME:Kino Tuškanac ciklus Portreti: Márta Mészáros
TIMEZONE-ID:Europe/Zagreb
X-WR-TIMEZONE:Europe/Zagreb
REFRESH-INTERVAL;VALUE=DURATION:PT12H
X-PUBLISHED-TTL:PT12H
METHOD:PUBLISH
BEGIN:VEVENT
UID:9c722dfb4237731ff21c6f22a47b903b@kinotuskanac.hr
DTSTAMP:20260423T143531Z
DTSTART:20240118T200000
DTEND:20240118T220000
SUMMARY:Usvojenje
LOCATION:Kino Tuškanac
DESCRIPTION:Örökbefogadás, Mađarska, 1975 | Mjesto prikazivanja filma: MM Centar (Studentski centar, Savska cesta 25) R: Márta Mészáros
END:VEVENT

BEGIN:VEVENT
UID:6ddc37949064d3b64c4f1e8ae5364cf9@kinotuskanac.hr
DTSTAMP:20260423T143531Z
DTSTART:20240119T200000
DTEND:20240119T220000
SUMMARY:Sunce je zašlo
LOCATION:Kino Tuškanac
DESCRIPTION:Eltávozott nap, Mađarska, 1968 | Mjesto prikazivanja filma: MM Centar (Studentski centar, Savska cesta 25) R: Márta Mészáros
END:VEVENT

BEGIN:VEVENT
UID:e7c81c65d984e7451c189be2e5fc02aa@kinotuskanac.hr
DTSTAMP:20260423T143531Z
DTSTART:20240121T200000
DTEND:20240121T220000
SUMMARY:Mjesečevo dvorište
LOCATION:Kino Tuškanac
DESCRIPTION:Holdudvar, Mađarska, 1969 | Mjesto prikazivanja filma: MM Centar (Studentski centar, Savska cesta 25) R: Márta Mészáros
END:VEVENT

BEGIN:VEVENT
UID:3ebe495769ec26323326c621554e7ada@kinotuskanac.hr
DTSTAMP:20260423T143531Z
DTSTART:20240209T200000
DTEND:20240209T220000
SUMMARY:Ne plačite, lijepe djevojke!
LOCATION:Kino Tuškanac
DESCRIPTION:Szép lányok, ne sírjatok!, Mađarska, 1970 | Mjesto prikazivanja filma: MM Centar (Studentski centar, Savska cesta 25) R: Márta Mészáros
END:VEVENT

BEGIN:VEVENT
UID:b1a92218228c42bf8db5274da1038bfd@kinotuskanac.hr
DTSTAMP:20260423T143531Z
DTSTART:20240210T200000
DTEND:20240210T220000
SUMMARY:Devet mjeseci
LOCATION:Kino Tuškanac
DESCRIPTION:Kilenc hónap, Mađarska, 1976 | Mjesto prikazivanja filma: MM Centar (Studentski centar, Savska cesta 25) R: Márta Mészáros
END:VEVENT

BEGIN:VEVENT
UID:90dd0433d70347bce15742ca32885e9e@kinotuskanac.hr
DTSTAMP:20260423T143531Z
DTSTART:20240211T200000
DTEND:20240211T220000
SUMMARY:Njih dvije
LOCATION:Kino Tuškanac
DESCRIPTION:Ök ketten, Mađarska, 1977 | Mjesto prikazivanja filma: MM Centar (Studentski centar, Savska cesta 25) R: Márta Mészáros
END:VEVENT

BEGIN:VEVENT
UID:1da287b41b8c07405b87f0c4d3a25040@kinotuskanac.hr
DTSTAMP:20260423T143531Z
DTSTART:20240321T200000
DTEND:20240321T220000
SUMMARY:Nasljeđe
LOCATION:Kino Tuškanac
DESCRIPTION:Örökség, Mađarska, 1980 | Mjesto prikazivanja filma: MM Centar (Studentski centar, Savska cesta 25) R: Márta Mészáros
END:VEVENT

BEGIN:VEVENT
UID:e31a5798f4f09c2fdc72311a39da1907@kinotuskanac.hr
DTSTAMP:20260423T143531Z
DTSTART:20240322T200000
DTEND:20240322T220000
SUMMARY:Dnevnik mojoj djeci
LOCATION:Kino Tuškanac
DESCRIPTION:Napló gyermekeimnek, Mađarska, 1984 | Mjesto prikazivanja filma: MM Centar (Studentski centar, Savska cesta 25) R: Márta Mészáros
END:VEVENT

BEGIN:VEVENT
UID:5b467e5f947bac552fe20846613e27ab@kinotuskanac.hr
DTSTAMP:20260423T143531Z
DTSTART:20240323T200000
DTEND:20240323T220000
SUMMARY:Dnevnik mojim ljubavima
LOCATION:Kino Tuškanac
DESCRIPTION:Napló szerelmeimnek, Mađarska, 1987 | Mjesto prikazivanja filma: MM Centar (Studentski centar, Savska cesta 25) R: Márta Mészáros
END:VEVENT

BEGIN:VEVENT
UID:108a9ad799bba1ed1f3e1dd0458afb3f@kinotuskanac.hr
DTSTAMP:20260423T143531Z
DTSTART:20240324T200000
DTEND:20240324T220000
SUMMARY:Dnevnik mojim roditeljima
LOCATION:Kino Tuškanac
DESCRIPTION:Napló apámnak, anyámnak, Mađarska, 1990 | Mjesto prikazivanja filma: MM Centar (Studentski centar, Savska cesta 25) R: Márta Mészáros
END:VEVENT
END:VCALENDAR