BEGIN:VCALENDAR
VERSION:2.0
PRODID:-//Kino Tuškanac//Filmski programi//HR
URL:http://kinotuskanac/calendar/cycle/968
NAME:Kino Tuškanac ciklus Trilogija Qatsi
X-WR-CALNAME:Kino Tuškanac ciklus Trilogija Qatsi
TIMEZONE-ID:Europe/Zagreb
X-WR-TIMEZONE:Europe/Zagreb
REFRESH-INTERVAL;VALUE=DURATION:PT12H
X-PUBLISHED-TTL:PT12H
METHOD:PUBLISH
BEGIN:VEVENT
UID:5658e9bb56fe64c96bd591b145a14014@kinotuskanac.hr
DTSTAMP:20260422T023920Z
DTSTART:20240426T200000
DTEND:20240426T220000
SUMMARY:Koyaanisqatsi
LOCATION:Kino Tuškanac
DESCRIPTION:SAD, 1982 | Mjesto prikazivanja filma: MM Centar (Studentski centar, Savska cesta 25) R: Godfrey Reggio
END:VEVENT

BEGIN:VEVENT
UID:037ba6dd3edb458589a36020bf465f87@kinotuskanac.hr
DTSTAMP:20260422T023920Z
DTSTART:20240427T200000
DTEND:20240427T220000
SUMMARY:Powaqqatsi
LOCATION:Kino Tuškanac
DESCRIPTION:SAD, 1988 | Mjesto prikazivanja filma: MM Centar (Studentski centar, Savska cesta 25) R: Godfrey Reggio
END:VEVENT

BEGIN:VEVENT
UID:f2d6f38d6b01294805b1726f79970f21@kinotuskanac.hr
DTSTAMP:20260422T023920Z
DTSTART:20240428T200000
DTEND:20240428T220000
SUMMARY:Naqoyqatsi
LOCATION:Kino Tuškanac
DESCRIPTION:SAD, 2002 | Mjesto prikazivanja filma: MM Centar (Studentski centar, Savska cesta 25) R: Godfrey Reggio
END:VEVENT
END:VCALENDAR