BEGIN:VCALENDAR
VERSION:2.0
PRODID:-//Kino Tuškanac//Filmski programi//HR
URL:http://kinotuskanac/calendar/cycle/973
NAME:Kino Tuškanac ciklus Brazilski Cinema Novo: Nelson Pereira dos Santos
X-WR-CALNAME:Kino Tuškanac ciklus Brazilski Cinema Novo: Nelson Pereira dos Santos
TIMEZONE-ID:Europe/Zagreb
X-WR-TIMEZONE:Europe/Zagreb
REFRESH-INTERVAL;VALUE=DURATION:PT12H
X-PUBLISHED-TTL:PT12H
METHOD:PUBLISH
BEGIN:VEVENT
UID:caa89a61e7a19dd98563845662eb4f02@kinotuskanac.hr
DTSTAMP:20260420T130417Z
DTSTART:20240612T210000
DTEND:20240612T230000
SUMMARY:Rio, 40 stupnjeva
LOCATION:Kino Tuškanac
DESCRIPTION:Rio, 40 Graus, Brazil, 1955 | Mjesto prikazivanja filma: Kino Forum (SD Stjepan Radić, Jarunska ul. 2) R: Nelson Pereira dos Santos
END:VEVENT

BEGIN:VEVENT
UID:21db31a2d3ba3d11200d33a12297b76e@kinotuskanac.hr
DTSTAMP:20260420T130417Z
DTSTART:20240619T210000
DTEND:20240619T230000
SUMMARY:Rio, sjeverna zona
LOCATION:Kino Tuškanac
DESCRIPTION:Rio, Zona Norte, Brazil, 1957 | Mjesto prikazivanja filma: Kino Forum (SD Stjepan Radić, Jarunska ul. 2) R: Nelson Pereira dos Santos
END:VEVENT

BEGIN:VEVENT
UID:f87ebede7a6e239a335416cdfaf42320@kinotuskanac.hr
DTSTAMP:20260420T130417Z
DTSTART:20240621T210000
DTEND:20240621T230000
SUMMARY:Suhi životi
LOCATION:Kino Tuškanac
DESCRIPTION:Vidas secas, Brazil, 1963 | Mjesto prikazivanja filma: Kino Forum (SD Stjepan Radić, Jarunska ul. 2) R: Nelson Pereira dos Santos
END:VEVENT

BEGIN:VEVENT
UID:0e1915a80aef133c2479a6ff6da5948d@kinotuskanac.hr
DTSTAMP:20260420T130417Z
DTSTART:20240623T210000
DTEND:20240623T230000
SUMMARY:Vrlo luda ludnica
LOCATION:Kino Tuškanac
DESCRIPTION:Azyllo Muito Louco, Brazil, 1970 | Mjesto prikazivanja filma: Kino Forum (SD Stjepan Radić, Jarunska ul. 2) R: Nelson Pereira dos Santos
END:VEVENT

BEGIN:VEVENT
UID:5aff258bcf405aaed25a4aa953195bfa@kinotuskanac.hr
DTSTAMP:20260420T130417Z
DTSTART:20240624T210000
DTEND:20240624T230000
SUMMARY:Kako je bio ukusan moj Francuz
LOCATION:Kino Tuškanac
DESCRIPTION:Como Era Gostoso o Meu Francês, Brazil, 1971 | Mjesto prikazivanja filma: Kino Forum (SD Stjepan Radić, Jarunska ul. 2) R: Nelson Pereira dos Santos
END:VEVENT

BEGIN:VEVENT
UID:48555ef77236565ae1cfb869eced919f@kinotuskanac.hr
DTSTAMP:20260420T130417Z
DTSTART:20240627T210000
DTEND:20240627T230000
SUMMARY:Uspomene iz zatvora
LOCATION:Kino Tuškanac
DESCRIPTION:Memórias do Cárcere, Brazil, 1984 | Mjesto prikazivanja filma: Kino Forum (SD Stjepan Radić, Jarunska ul. 2) R: Nelson Pereira dos Santos
END:VEVENT
END:VCALENDAR