BEGIN:VCALENDAR
VERSION:2.0
PRODID:-//Kino Tuškanac//Filmski programi//HR
URL:http://kinotuskanac/calendar/cycle/980
NAME:Kino Tuškanac ciklus Suvremeni Disney
X-WR-CALNAME:Kino Tuškanac ciklus Suvremeni Disney
TIMEZONE-ID:Europe/Zagreb
X-WR-TIMEZONE:Europe/Zagreb
REFRESH-INTERVAL;VALUE=DURATION:PT12H
X-PUBLISHED-TTL:PT12H
METHOD:PUBLISH
BEGIN:VEVENT
UID:a5763f54d4f128387ae38e22e594478e@kinotuskanac.hr
DTSTAMP:20260423T143614Z
DTSTART:20240928T110000
DTEND:20240928T130000
SUMMARY:Izbavitelji
LOCATION:Kino Tuškanac
DESCRIPTION:The Incredibles, SAD, 2004 | Mjesto prikazivanja filma: Scena Ribnjak (Centar mladih Ribnjak, Park Ribnjak 1) R: Brad Bird
END:VEVENT

BEGIN:VEVENT
UID:f7f53b11fbd8244f09a3f0a4725f3188@kinotuskanac.hr
DTSTAMP:20260423T143614Z
DTSTART:20241005T110000
DTEND:20241005T130000
SUMMARY:Ratatouille
LOCATION:Kino Tuškanac
DESCRIPTION:SAD, 2007 | Mjesto prikazivanja filma: Scena Ribnjak (Centar mladih Ribnjak, Park Ribnjak 1) R: Brad Bird
END:VEVENT

BEGIN:VEVENT
UID:37df8b06031b09d85cd9954c54227826@kinotuskanac.hr
DTSTAMP:20260423T143614Z
DTSTART:20241012T110000
DTEND:20241012T130000
SUMMARY:Vrlo zapetljana priča
LOCATION:Kino Tuškanac
DESCRIPTION:Tangled, SAD, 2010 | Mjesto prikazivanja filma: Scena Ribnjak (Centar mladih Ribnjak, Park Ribnjak 1) R: Nathan Greno
END:VEVENT

BEGIN:VEVENT
UID:cd8055db2e3f00fdc38d1048de3afc48@kinotuskanac.hr
DTSTAMP:20260423T143614Z
DTSTART:20241102T110000
DTEND:20241102T130000
SUMMARY:Merida hrabra
LOCATION:Kino Tuškanac
DESCRIPTION:Brave, SAD, 2012 | Mjesto prikazivanja filma: Scena Ribnjak (Centar mladih Ribnjak, Park Ribnjak 1) R: Mark Andrews
END:VEVENT

BEGIN:VEVENT
UID:23015ab1c94fc75b1438db724d235d51@kinotuskanac.hr
DTSTAMP:20260423T143614Z
DTSTART:20241123T110000
DTEND:20241123T130000
SUMMARY:Snježno kraljevstvo
LOCATION:Kino Tuškanac
DESCRIPTION:Frozen, SAD, 2013 | Mjesto prikazivanja filma: Scena Ribnjak (Centar mladih Ribnjak, Park Ribnjak 1) R: Chris Buck
END:VEVENT
END:VCALENDAR