BEGIN:VCALENDAR
VERSION:2.0
PRODID:-//Kino Tuškanac//Filmski programi//HR
URL:http://kinotuskanac/calendar/cycle/988
NAME:Kino Tuškanac ciklus Advent u KIC-u
X-WR-CALNAME:Kino Tuškanac ciklus Advent u KIC-u
TIMEZONE-ID:Europe/Zagreb
X-WR-TIMEZONE:Europe/Zagreb
REFRESH-INTERVAL;VALUE=DURATION:PT12H
X-PUBLISHED-TTL:PT12H
METHOD:PUBLISH
BEGIN:VEVENT
UID:233c0aab871ba2762f12ff9d6a2363c4@kinotuskanac.hr
DTSTAMP:20260420T161505Z
DTSTART:20241218T210000
DTEND:20241218T230000
SUMMARY:Trgovina iza ugla
LOCATION:Kino Tuškanac
DESCRIPTION:The Shop Around the Corner, SAD, 1940 | Mjesto prikazivanja filma: Kulturno informativni centar KIC (Preradovićeva ul. 5) R: Ernst Lubitsch
END:VEVENT

BEGIN:VEVENT
UID:ba44d1788ce93900d5ddaf411f644e2f@kinotuskanac.hr
DTSTAMP:20260420T161505Z
DTSTART:20241219T210000
DTEND:20241219T230000
SUMMARY:Srest ćemo se u St. Louisu
LOCATION:Kino Tuškanac
DESCRIPTION:Meet Me in St. Louis, SAD, 1944 | Mjesto prikazivanja filma: Kulturno informativni centar KIC (Preradovićeva ul. 5) R: Vincente Minnelli
END:VEVENT

BEGIN:VEVENT
UID:aaaa1cd9b7c4bad24cc7661cc662d8df@kinotuskanac.hr
DTSTAMP:20260420T161505Z
DTSTART:20241223T210000
DTEND:20241223T230000
SUMMARY:Sve što nebo dopušta
LOCATION:Kino Tuškanac
DESCRIPTION:All That Heaven Allows, SAD, 1955 | Mjesto prikazivanja filma: Kulturno informativni centar KIC (Preradovićeva ul. 5) R: Douglas Sirk
END:VEVENT

BEGIN:VEVENT
UID:33f2f00ef92d9e4fed5e7f2ba9def5ca@kinotuskanac.hr
DTSTAMP:20260420T161505Z
DTSTART:20241222T210000
DTEND:20241222T230000
SUMMARY:Divan život
LOCATION:Kino Tuškanac
DESCRIPTION:It's a Wonderful Life, SAD, 1946 | Mjesto prikazivanja filma: Kulturno informativni centar KIC (Preradovićeva ul. 5) R: Frank Capra
END:VEVENT
END:VCALENDAR