BEGIN:VCALENDAR
VERSION:2.0
PRODID:-//Kino Tuškanac//Filmski programi//HR
URL:http://kinotuskanac/calendar/cycle/989
NAME:Kino Tuškanac ciklus Europska filmska akademija putuje – Nominirani kratki filmovi
X-WR-CALNAME:Kino Tuškanac ciklus Europska filmska akademija putuje – Nominirani kratki filmovi
TIMEZONE-ID:Europe/Zagreb
X-WR-TIMEZONE:Europe/Zagreb
REFRESH-INTERVAL;VALUE=DURATION:PT12H
X-PUBLISHED-TTL:PT12H
METHOD:PUBLISH
BEGIN:VEVENT
UID:e48c971e37c5423c026fd3a3d168d36f@kinotuskanac.hr
DTSTAMP:20260420T184431Z
DTSTART:20241223T190000
DTEND:20241223T210000
SUMMARY:2720
LOCATION:Kino Tuškanac
DESCRIPTION:Portugal, Švicarska, 2023 | Mjesto prikazivanja filma: Kulturno informativni centar KIC (Preradovićeva ul. 5) R: Basil da Cunha
END:VEVENT

BEGIN:VEVENT
UID:00bad098e26af27f8ea6736e79a83ef4@kinotuskanac.hr
DTSTAMP:20260420T184431Z
DTSTART:20241223T190000
DTEND:20241223T210000
SUMMARY:Clamor
LOCATION:Kino Tuškanac
DESCRIPTION:Francuska, 2023 R: Salomé Da Souza
END:VEVENT

BEGIN:VEVENT
UID:dcdca020e5911775d5602f756d40433d@kinotuskanac.hr
DTSTAMP:20260420T184431Z
DTSTART:20241223T190000
DTEND:20241223T210000
SUMMARY:La Fille qui explose
LOCATION:Kino Tuškanac
DESCRIPTION:Francuska, 2024 R: Caroline Poggi
END:VEVENT

BEGIN:VEVENT
UID:63756a341f65e43ac83ab2e0e7c2ed1d@kinotuskanac.hr
DTSTAMP:20260420T184431Z
DTSTART:20241223T190000
DTEND:20241223T210000
SUMMARY:Wander to Wonder
LOCATION:Kino Tuškanac
DESCRIPTION:Nizozemska, Belgija, Francuska, Ujedinjeno Kraljevstvo, 2023 R: Nina Gantz
END:VEVENT

BEGIN:VEVENT
UID:278339ab10526efa7dfd864f303a46ec@kinotuskanac.hr
DTSTAMP:20260420T184431Z
DTSTART:20241223T190000
DTEND:20241223T210000
SUMMARY:Čovjek koji nije mogao šutjeti
LOCATION:Kino Tuškanac
DESCRIPTION:HR, BG, FR, SI, 2024 R: Nebojša Slijepčević
END:VEVENT
END:VCALENDAR