BEGIN:VCALENDAR
VERSION:2.0
PRODID:-//Kino Tuškanac//Filmski programi//HR
URL:http://kinotuskanac/calendar/cycle/993
NAME:Kino Tuškanac ciklus 130 godina filma
X-WR-CALNAME:Kino Tuškanac ciklus 130 godina filma
TIMEZONE-ID:Europe/Zagreb
X-WR-TIMEZONE:Europe/Zagreb
REFRESH-INTERVAL;VALUE=DURATION:PT12H
X-PUBLISHED-TTL:PT12H
METHOD:PUBLISH
BEGIN:VEVENT
UID:aff30234eaeb4b391fe8560db0d605a7@kinotuskanac.hr
DTSTAMP:20260424T070802Z
DTSTART:20250126T210000
DTEND:20250126T230000
SUMMARY:Propast svijeta
LOCATION:Kino Tuškanac
DESCRIPTION:Verdens Undergang, Danska, 1916 | Mjesto prikazivanja filma: Kulturno informativni centar KIC (Preradovićeva ul. 5) R: August Blom
END:VEVENT

BEGIN:VEVENT
UID:1e628a1220a9dbed602f85eb8e63fc01@kinotuskanac.hr
DTSTAMP:20260424T070802Z
DTSTART:20250228T210000
DTEND:20250228T230000
SUMMARY:Umorna smrt
LOCATION:Kino Tuškanac
DESCRIPTION:Der müde Todd, Njemačka, 1921 | Mjesto prikazivanja filma: Kulturno informativni centar KIC (Preradovićeva ul. 5) R: Fritz Lang
END:VEVENT

BEGIN:VEVENT
UID:54ff5f850afd344b196933e6c1051bc8@kinotuskanac.hr
DTSTAMP:20260424T070802Z
DTSTART:20250328T210000
DTEND:20250328T230000
SUMMARY:Ponoć
LOCATION:Kino Tuškanac
DESCRIPTION:Midnight, SAD, 1939 | Mjesto prikazivanja filma: Kulturno informativni centar KIC (Preradovićeva ul. 5) R: Mitchell Leisen
END:VEVENT

BEGIN:VEVENT
UID:d6777374bbfad3b1608b5f933495f1d3@kinotuskanac.hr
DTSTAMP:20260424T070802Z
DTSTART:20250426T210000
DTEND:20250426T230000
SUMMARY:Kasno proljeće
LOCATION:Kino Tuškanac
DESCRIPTION:Banshun, Japan, 1949 | Mjesto prikazivanja filma: Kulturno informativni centar KIC (Preradovićeva ul. 5) R: Yasujirō Ozu
END:VEVENT

BEGIN:VEVENT
UID:ba647fd95c7440f5322188433c22373d@kinotuskanac.hr
DTSTAMP:20260424T070802Z
DTSTART:20250518T210000
DTEND:20250518T230000
SUMMARY:Poljubac smrti (1955)
LOCATION:Kino Tuškanac
DESCRIPTION:Kiss Me Deadly, 1955 | Mjesto prikazivanja filma: Kulturno informativni centar KIC (Preradovićeva ul. 5) R: Robert Aldrich
END:VEVENT

BEGIN:VEVENT
UID:cc35b1f1fdd0fecd171d2d7b7cdfbb79@kinotuskanac.hr
DTSTAMP:20260424T070802Z
DTSTART:20250627T210000
DTEND:20250627T230000
SUMMARY:Mouchette
LOCATION:Kino Tuškanac
DESCRIPTION:Francuska, 1967 | Mjesto prikazivanja filma: Kulturno informativni centar KIC (Preradovićeva ul. 5) R: Robert Bresson
END:VEVENT

BEGIN:VEVENT
UID:7456d3d841dc0e97b8689290c88deb50@kinotuskanac.hr
DTSTAMP:20260424T070802Z
DTSTART:20250702T200000
DTEND:20250702T220000
SUMMARY:Majka i prostitutka
LOCATION:Kino Tuškanac
DESCRIPTION:La maman et la putain, Francuska, 1973 | Mjesto prikazivanja filma: Kino Forum (SD Stjepan Radić, Jarunska ul. 2) R: Jean Eustache
END:VEVENT

BEGIN:VEVENT
UID:fa0088618f90e45bacb1be9cb27776bf@kinotuskanac.hr
DTSTAMP:20260424T070802Z
DTSTART:20250907T190000
DTEND:20250907T210000
SUMMARY:Olovno vrijeme
LOCATION:Kino Tuškanac
DESCRIPTION:Die bleierne Zeit, Njemačka, 1981 | Mjesto prikazivanja filma: Kulturno informativni centar KIC (Preradovićeva ul. 5) R: Margarethe von Trotta
END:VEVENT

BEGIN:VEVENT
UID:e2a60b020124883988409d5c6ba7ac50@kinotuskanac.hr
DTSTAMP:20260424T070802Z
DTSTART:20251009T210000
DTEND:20251009T230000
SUMMARY:Ledena oluja
LOCATION:Kino Tuškanac
DESCRIPTION:The Ice Storm, SAD, 1997 | Mjesto prikazivanja filma: Kulturno informativni centar KIC (Preradovićeva ul. 5) R: Ang Lee
END:VEVENT

BEGIN:VEVENT
UID:3f9d1572aac633b05e99cc88a8e1691d@kinotuskanac.hr
DTSTAMP:20260424T070802Z
DTSTART:20251119T180000
DTEND:20251119T200000
SUMMARY:Što je Iva snimila 21. listopada 2003.
LOCATION:Kino Tuškanac
DESCRIPTION:Hrvatska, 2005 | Mjesto prikazivanja filma: Kulturno informativni centar KIC (Preradovićeva ul. 5) R: Tomislav Radić
END:VEVENT

BEGIN:VEVENT
UID:52dad102560cfefa5d06154f724526f0@kinotuskanac.hr
DTSTAMP:20260424T070802Z
DTSTART:20251214T210000
DTEND:20251214T230000
SUMMARY:Saulov sin
LOCATION:Kino Tuškanac
DESCRIPTION:Saul fia, Mađarska, 2015 | Mjesto prikazivanja filma: Kulturno informativni centar KIC (Preradovićeva ul. 5) R: László Nemes
END:VEVENT
END:VCALENDAR