BEGIN:VCALENDAR
VERSION:2.0
PRODID:-//Kino Tuškanac//Filmski programi//HR
URL:http://kinotuskanac/calendar/cycle/996
NAME:Kino Tuškanac ciklus In memoriam: Alain Delon
X-WR-CALNAME:Kino Tuškanac ciklus In memoriam: Alain Delon
TIMEZONE-ID:Europe/Zagreb
X-WR-TIMEZONE:Europe/Zagreb
REFRESH-INTERVAL;VALUE=DURATION:PT12H
X-PUBLISHED-TTL:PT12H
METHOD:PUBLISH
BEGIN:VEVENT
UID:a3a54d20bd9473e3776e0212942c0925@kinotuskanac.hr
DTSTAMP:20260423T175353Z
DTSTART:20250203T190000
DTEND:20250203T210000
SUMMARY:U zenitu sunca
LOCATION:Kino Tuškanac
DESCRIPTION:Plein Soleil, Francuska, Italija, 1960 | Mjesto prikazivanja filma: Centar za kulturu Histrionski dom (Ilica 90) R: René Clément
END:VEVENT

BEGIN:VEVENT
UID:06208bba1406f9a87ada0d7333cbdc2f@kinotuskanac.hr
DTSTAMP:20260423T175353Z
DTSTART:20250204T190000
DTEND:20250204T210000
SUMMARY:Rocco i njegova braća
LOCATION:Kino Tuškanac
DESCRIPTION:Rocco e i suoi fratelli, Italija, Francuska, 1960 | Mjesto prikazivanja filma: Centar za kulturu Histrionski dom (Ilica 90) R: Luchino Visconti
END:VEVENT

BEGIN:VEVENT
UID:6cdeade0350d45a0d62fa48696027214@kinotuskanac.hr
DTSTAMP:20260423T175353Z
DTSTART:20250210T190000
DTEND:20250210T210000
SUMMARY:Pomrčina
LOCATION:Kino Tuškanac
DESCRIPTION:L'Eclisse, Italija, Francuska, 1962 | Mjesto prikazivanja filma: Centar za kulturu Histrionski dom (Ilica 90) R: Michelangelo Antonioni
END:VEVENT

BEGIN:VEVENT
UID:dec4ebd77d97ba4899a0bade8f8ab25e@kinotuskanac.hr
DTSTAMP:20260423T175353Z
DTSTART:20250211T190000
DTEND:20250211T210000
SUMMARY:Samuraj
LOCATION:Kino Tuškanac
DESCRIPTION:Le Samouraï, Francuska, Italija, 1967 | Mjesto prikazivanja filma: Centar za kulturu Histrionski dom (Ilica 90) R: Jean-Pierre Melville
END:VEVENT

BEGIN:VEVENT
UID:a31afffbed31b7959b95ee704ed5ac2e@kinotuskanac.hr
DTSTAMP:20260423T175353Z
DTSTART:20250217T190000
DTEND:20250217T210000
SUMMARY:Crveni krug
LOCATION:Kino Tuškanac
DESCRIPTION:Le cercle rouge, Francuska, Italija, 1970 | Mjesto prikazivanja filma: Centar za kulturu Histrionski dom (Ilica 90) R: Jean-Pierre Melville
END:VEVENT

BEGIN:VEVENT
UID:9832abde55b0c8206bc69d5b745f59cf@kinotuskanac.hr
DTSTAMP:20260423T175353Z
DTSTART:20250218T190000
DTEND:20250218T210000
SUMMARY:Gospodin Klein
LOCATION:Kino Tuškanac
DESCRIPTION:Monsieur Klein, Francuska, Italija, 1976 | Mjesto prikazivanja filma: Centar za kulturu Histrionski dom (Ilica 90) R: Joseph Losey
END:VEVENT
END:VCALENDAR