BEGIN:VCALENDAR
VERSION:2.0
PRODID:-//Kino Tuškanac//Filmski programi//HR
URL:http://kinotuskanac/calendar/cycle/997
NAME:Kino Tuškanac ciklus Rani Hitchcock
X-WR-CALNAME:Kino Tuškanac ciklus Rani Hitchcock
TIMEZONE-ID:Europe/Zagreb
X-WR-TIMEZONE:Europe/Zagreb
REFRESH-INTERVAL;VALUE=DURATION:PT12H
X-PUBLISHED-TTL:PT12H
METHOD:PUBLISH
BEGIN:VEVENT
UID:2b0a1d0ab56dbe87ec472a8c203973ba@kinotuskanac.hr
DTSTAMP:20260424T012652Z
DTSTART:20250206T210000
DTEND:20250206T230000
SUMMARY:Ring
LOCATION:Kino Tuškanac
DESCRIPTION:The Ring, UK, 1927 | Mjesto prikazivanja filma: Kulturno informativni centar KIC (Preradovićeva ul. 5) R: Alfred Hitchcock
END:VEVENT

BEGIN:VEVENT
UID:61853b916bd0f19cbf16b5d28ba5e248@kinotuskanac.hr
DTSTAMP:20260424T012652Z
DTSTART:20250207T210000
DTEND:20250207T230000
SUMMARY:Stanar
LOCATION:Kino Tuškanac
DESCRIPTION:The Lodger: A Story of the London Fog, UK, 1927 | Mjesto prikazivanja filma: Kulturno informativni centar KIC (Preradovićeva ul. 5) R: Alfred Hitchcock
END:VEVENT

BEGIN:VEVENT
UID:61875c090e3ccab4dd9872afe0840132@kinotuskanac.hr
DTSTAMP:20260424T012652Z
DTSTART:20250208T210000
DTEND:20250208T230000
SUMMARY:Šampanjac
LOCATION:Kino Tuškanac
DESCRIPTION:Champagne, UK, 1928 | Mjesto prikazivanja filma: Kulturno informativni centar KIC (Preradovićeva ul. 5) R: Alfred Hitchcock
END:VEVENT

BEGIN:VEVENT
UID:975db3e00ed3d725967ea79acbd11e8c@kinotuskanac.hr
DTSTAMP:20260424T012652Z
DTSTART:20250209T210000
DTEND:20250209T230000
SUMMARY:Ucjena
LOCATION:Kino Tuškanac
DESCRIPTION:Blackmail, UK, 1929 | Mjesto prikazivanja filma: Kulturno informativni centar KIC (Preradovićeva ul. 5) R: Alfred Hitchcock
END:VEVENT

BEGIN:VEVENT
UID:409649f3412dd738af569755705e00b3@kinotuskanac.hr
DTSTAMP:20260424T012652Z
DTSTART:20250213T210000
DTEND:20250213T230000
SUMMARY:Umorstvo
LOCATION:Kino Tuškanac
DESCRIPTION:Murder!, UK, 1930 | Mjesto prikazivanja filma: Kulturno informativni centar KIC (Preradovićeva ul. 5) R: Alfred Hitchcock
END:VEVENT

BEGIN:VEVENT
UID:bcab1a6ba75f7f19d6136715b84a142b@kinotuskanac.hr
DTSTAMP:20260424T012652Z
DTSTART:20250215T210000
DTEND:20250215T230000
SUMMARY:Bogati i čudni
LOCATION:Kino Tuškanac
DESCRIPTION:Rich and Strange, UK, 1932 | Mjesto prikazivanja filma: Kulturno informativni centar KIC (Preradovićeva ul. 5) R: Alfred Hitchcock
END:VEVENT
END:VCALENDAR