BEGIN:VCALENDAR
VERSION:2.0
PRODID:-//Kino Tuškanac//Filmski programi//HR
BEGIN:VEVENT
UID:29e977b56c8559b341adef7ac70cf4ff@kinotuskanac.hr
DTSTAMP:20260423T014142Z
DTSTART:20061211T210000
DTEND:20061211T230000
SUMMARY:Dekalog 10
LOCATION:Kino Tuškanac
DESCRIPTION:Thou Shalt Not Covet Thy Neighbor's Goods, 1989 R: Krzysztof Kieślowski
END:VEVENT
END:VCALENDAR