BEGIN:VCALENDAR
VERSION:2.0
PRODID:-//Kino Tuškanac//Filmski programi//HR
BEGIN:VEVENT
UID:cc5aa9c4343c8a8c8ef3ecb11b2294e5@kinotuskanac.hr
DTSTAMP:20260422T125456Z
DTSTART:20061111T190000
DTEND:20061111T210000
SUMMARY:Toliko smo se voljeli
LOCATION:Kino Tuškanac
DESCRIPTION:C’eravamo tanto amati, 1974 R: Ettore Scola
END:VEVENT
END:VCALENDAR