BEGIN:VCALENDAR
VERSION:2.0
PRODID:-//Kino Tuškanac//Filmski programi//HR
BEGIN:VEVENT
UID:8df53bf3379dd5f8f5027287e86c122c@kinotuskanac.hr
DTSTAMP:20260422T215324Z
DTSTART:20061114T190000
DTEND:20061114T210000
SUMMARY:Porodica
LOCATION:Kino Tuškanac
DESCRIPTION:La famiglia, 1987 R: Ettore Scola
END:VEVENT
END:VCALENDAR