BEGIN:VCALENDAR
VERSION:2.0
PRODID:-//Kino Tuškanac//Filmski programi//HR
BEGIN:VEVENT
UID:dcd8fc447576d7680d12c7e75baa02b4@kinotuskanac.hr
DTSTAMP:20260422T214906Z
DTSTART:20061115T213000
DTEND:20061115T233000
SUMMARY:Porodica
LOCATION:Kino Tuškanac
DESCRIPTION:La famiglia, 1987 R: Ettore Scola
END:VEVENT
END:VCALENDAR