BEGIN:VCALENDAR
VERSION:2.0
PRODID:-//Kino Tuškanac//Filmski programi//HR
BEGIN:VEVENT
UID:99041a111d4b2e5c3d1e20b022ff1ec0@kinotuskanac.hr
DTSTAMP:20260422T071546Z
DTSTART:20061013T210000
DTEND:20061013T230000
SUMMARY:The Making of the Mahatma
LOCATION:Kino Tuškanac
DESCRIPTION:1996 R: Shyam Benegal
END:VEVENT
END:VCALENDAR