BEGIN:VCALENDAR
VERSION:2.0
PRODID:-//Kino Tuškanac//Filmski programi//HR
BEGIN:VEVENT
UID:8f6568bfe3da5351792fc677a8d785ec@kinotuskanac.hr
DTSTAMP:20260422T071058Z
DTSTART:20061014T153000
DTEND:20061014T173000
SUMMARY:The Making of the Mahatma
LOCATION:Kino Tuškanac
DESCRIPTION:1996 R: Shyam Benegal
END:VEVENT
END:VCALENDAR