BEGIN:VCALENDAR
VERSION:2.0
PRODID:-//Kino Tuškanac//Filmski programi//HR
BEGIN:VEVENT
UID:10f4601e37eb0e8ef4a58dc34607732c@kinotuskanac.hr
DTSTAMP:20260420T230523Z
DTSTART:20021011T190000
DTEND:20021011T210000
SUMMARY:Intermezzo
LOCATION:Kino Tuškanac
DESCRIPTION:2002 R: Gunnar Bergdahl
END:VEVENT
END:VCALENDAR