BEGIN:VCALENDAR
VERSION:2.0
PRODID:-//Kino Tuškanac//Filmski programi//HR
BEGIN:VEVENT
UID:dc6e1d76e76993b73b212f868f1fb758@kinotuskanac.hr
DTSTAMP:20260420T115012Z
DTSTART:20070202T190000
DTEND:20070202T210000
SUMMARY:Gavran
LOCATION:Kino Tuškanac
DESCRIPTION:Le corbeau, Francuska, 1943 R: Henri-Georges Clouzot
END:VEVENT
END:VCALENDAR