BEGIN:VCALENDAR
VERSION:2.0
PRODID:-//Kino Tuškanac//Filmski programi//HR
BEGIN:VEVENT
UID:5aa885f16154f79f85faa99d15400a34@kinotuskanac.hr
DTSTAMP:20260420T115023Z
DTSTART:20070206T190000
DTEND:20070206T210000
SUMMARY:Gavran
LOCATION:Kino Tuškanac
DESCRIPTION:Le corbeau, Francuska, 1943 R: Henri-Georges Clouzot
END:VEVENT
END:VCALENDAR