BEGIN:VCALENDAR
VERSION:2.0
PRODID:-//Kino Tuškanac//Filmski programi//HR
BEGIN:VEVENT
UID:e314b428e6e2aebbc51ad10ffd9182e8@kinotuskanac.hr
DTSTAMP:20260419T141807Z
DTSTART:20070209T190000
DTEND:20070209T210000
SUMMARY:Dječak zelene kose
LOCATION:Kino Tuškanac
DESCRIPTION:The Boy with Green Hair, 1948 R: Joseph Losey
END:VEVENT
END:VCALENDAR