BEGIN:VCALENDAR
VERSION:2.0
PRODID:-//Kino Tuškanac//Filmski programi//HR
BEGIN:VEVENT
UID:560ec2700392cae8bcadd6abb249ac77@kinotuskanac.hr
DTSTAMP:20260420T195905Z
DTSTART:20021013T210000
DTEND:20021013T230000
SUMMARY:Osmijesi ljetne noći
LOCATION:Kino Tuškanac
DESCRIPTION:Sommarnattens leende, Švedska, 1955 R: Ingmar Bergman
END:VEVENT
END:VCALENDAR