BEGIN:VCALENDAR
VERSION:2.0
PRODID:-//Kino Tuškanac//Filmski programi//HR
BEGIN:VEVENT
UID:3ffda2106d53d23de7bcba40421efcb6@kinotuskanac.hr
DTSTAMP:20260419T141621Z
DTSTART:20070214T210000
DTEND:20070214T230000
SUMMARY:Modesty Blaise
LOCATION:Kino Tuškanac
DESCRIPTION:Velika Britanija, 1966 R: Joseph Losey
END:VEVENT
END:VCALENDAR