BEGIN:VCALENDAR
VERSION:2.0
PRODID:-//Kino Tuškanac//Filmski programi//HR
BEGIN:VEVENT
UID:a43352023ca0d0c6af0c6d06abc4673c@kinotuskanac.hr
DTSTAMP:20260421T093102Z
DTSTART:20070219T190000
DTEND:20070219T210000
SUMMARY:Tajna ceremonija
LOCATION:Kino Tuškanac
DESCRIPTION:Secret Ceremony, 1968 R: Joseph Losey
END:VEVENT
END:VCALENDAR