BEGIN:VCALENDAR
VERSION:2.0
PRODID:-//Kino Tuškanac//Filmski programi//HR
BEGIN:VEVENT
UID:327fef41e39df8f411079fb7ab870bb5@kinotuskanac.hr
DTSTAMP:20260420T133909Z
DTSTART:20070221T190000
DTEND:20070221T210000
SUMMARY:Umorstvo Trockoga
LOCATION:Kino Tuškanac
DESCRIPTION:The Assassination of Trotsky, 1972 R: Joseph Losey
END:VEVENT
END:VCALENDAR