BEGIN:VCALENDAR
VERSION:2.0
PRODID:-//Kino Tuškanac//Filmski programi//HR
BEGIN:VEVENT
UID:b88a5c6ca7a0eac4d10d727eb658e17d@kinotuskanac.hr
DTSTAMP:20260420T133918Z
DTSTART:20070224T210000
DTEND:20070224T230000
SUMMARY:Umorstvo Trockoga
LOCATION:Kino Tuškanac
DESCRIPTION:The Assassination of Trotsky, 1972 R: Joseph Losey
END:VEVENT
END:VCALENDAR