BEGIN:VCALENDAR
VERSION:2.0
PRODID:-//Kino Tuškanac//Filmski programi//HR
BEGIN:VEVENT
UID:55217ba8c9a76038323f7fbc20783866@kinotuskanac.hr
DTSTAMP:20260419T225251Z
DTSTART:20070226T210000
DTEND:20070226T230000
SUMMARY:Romantična Engleskinja
LOCATION:Kino Tuškanac
DESCRIPTION:The Romantic Englishwoman, 1975 R: Joseph Losey
END:VEVENT
END:VCALENDAR