BEGIN:VCALENDAR
VERSION:2.0
PRODID:-//Kino Tuškanac//Filmski programi//HR
BEGIN:VEVENT
UID:22c4cd211a84ad7c12bc37d66d17f26f@kinotuskanac.hr
DTSTAMP:20260419T210208Z
DTSTART:20070317T190000
DTEND:20070317T210000
SUMMARY:Ljepotica dana
LOCATION:Kino Tuškanac
DESCRIPTION:Belle de jour, Francuska, 1967 R: Luis Buñuel
END:VEVENT
END:VCALENDAR