BEGIN:VCALENDAR
VERSION:2.0
PRODID:-//Kino Tuškanac//Filmski programi//HR
BEGIN:VEVENT
UID:708ebd28301d53fe449725d129271a24@kinotuskanac.hr
DTSTAMP:20260419T210034Z
DTSTART:20070319T210000
DTEND:20070319T230000
SUMMARY:Ljepotica dana
LOCATION:Kino Tuškanac
DESCRIPTION:Belle de jour, Francuska, 1967 R: Luis Buñuel
END:VEVENT
END:VCALENDAR