BEGIN:VCALENDAR
VERSION:2.0
PRODID:-//Kino Tuškanac//Filmski programi//HR
BEGIN:VEVENT
UID:843e7a5bd880eab5ce63ef5e536722c2@kinotuskanac.hr
DTSTAMP:20260420T033641Z
DTSTART:20070309T190000
DTEND:20070309T210000
SUMMARY:Ovdje gori svjetlo
LOCATION:Kino Tuškanac
DESCRIPTION:Inja cheraghi roushan ast, 2002 R: Seyyed Mir-Karimi
END:VEVENT
END:VCALENDAR