BEGIN:VCALENDAR
VERSION:2.0
PRODID:-//Kino Tuškanac//Filmski programi//HR
BEGIN:VEVENT
UID:1920b36cc298504b7c1c2c24ce4efbcc@kinotuskanac.hr
DTSTAMP:20260420T033749Z
DTSTART:20070312T210000
DTEND:20070312T230000
SUMMARY:Ovdje gori svjetlo
LOCATION:Kino Tuškanac
DESCRIPTION:Inja cheraghi roushan ast, 2002 R: Seyyed Mir-Karimi
END:VEVENT
END:VCALENDAR