BEGIN:VCALENDAR
VERSION:2.0
PRODID:-//Kino Tuškanac//Filmski programi//HR
BEGIN:VEVENT
UID:bf2e8a8bcba4cc8323bf0aaff73e47a8@kinotuskanac.hr
DTSTAMP:20260423T161031Z
DTSTART:20070326T190000
DTEND:20070326T210000
SUMMARY:Treći ključ
LOCATION:Kino Tuškanac
DESCRIPTION:1983 R: Zoran Tadić
END:VEVENT
END:VCALENDAR