BEGIN:VCALENDAR
VERSION:2.0
PRODID:-//Kino Tuškanac//Filmski programi//HR
BEGIN:VEVENT
UID:2a9fdc4aa63f8409ca3ee8eee4fc5a17@kinotuskanac.hr
DTSTAMP:20260422T124026Z
DTSTART:20070331T190000
DTEND:20070331T210000
SUMMARY:Diploma za smrt
LOCATION:Kino Tuškanac
DESCRIPTION:Jugoslavija: Hrvatska, Njemačka, 1989 | Mjesto prikazivanja filma: Kulturno informativni centar KIC (Preradovićeva ul. 5) R: Živorad Tomić
END:VEVENT
END:VCALENDAR