BEGIN:VCALENDAR
VERSION:2.0
PRODID:-//Kino Tuškanac//Filmski programi//HR
BEGIN:VEVENT
UID:9a327bff598c1a6eecda9c0dc88e5de8@kinotuskanac.hr
DTSTAMP:20260422T124413Z
DTSTART:20070402T210000
DTEND:20070402T230000
SUMMARY:Diploma za smrt
LOCATION:Kino Tuškanac
DESCRIPTION:Jugoslavija: Hrvatska, Njemačka, 1989 | Mjesto prikazivanja filma: Kulturno informativni centar KIC (Preradovićeva ul. 5) R: Živorad Tomić
END:VEVENT
END:VCALENDAR