BEGIN:VCALENDAR
VERSION:2.0
PRODID:-//Kino Tuškanac//Filmski programi//HR
BEGIN:VEVENT
UID:975faaad7860d89dbe25105f03bb1659@kinotuskanac.hr
DTSTAMP:20260419T142009Z
DTSTART:20070405T210000
DTEND:20070405T230000
SUMMARY:Zmija u njedrima
LOCATION:Kino Tuškanac
DESCRIPTION:Cria cuervos, 1976 R: Carlos Saura
END:VEVENT
END:VCALENDAR