BEGIN:VCALENDAR
VERSION:2.0
PRODID:-//Kino Tuškanac//Filmski programi//HR
BEGIN:VEVENT
UID:6803ed39ff1dd3f27aafd8192be0a834@kinotuskanac.hr
DTSTAMP:20260419T141813Z
DTSTART:20070406T190000
DTEND:20070406T210000
SUMMARY:Zmija u njedrima
LOCATION:Kino Tuškanac
DESCRIPTION:Cria cuervos, 1976 R: Carlos Saura
END:VEVENT
END:VCALENDAR