BEGIN:VCALENDAR
VERSION:2.0
PRODID:-//Kino Tuškanac//Filmski programi//HR
BEGIN:VEVENT
UID:b2bf392bc25b83a4c69428315bc2dc1e@kinotuskanac.hr
DTSTAMP:20260421T092717Z
DTSTART:20070418T210000
DTEND:20070418T230000
SUMMARY:Obiteljsko gnijezdo
LOCATION:Kino Tuškanac
DESCRIPTION:Családi tüzfészek, Mađarska, 1977 R: Béla Tarr
END:VEVENT
END:VCALENDAR