BEGIN:VCALENDAR
VERSION:2.0
PRODID:-//Kino Tuškanac//Filmski programi//HR
BEGIN:VEVENT
UID:a0203b760896f2538963415e8405c655@kinotuskanac.hr
DTSTAMP:20260420T115016Z
DTSTART:20070419T210000
DTEND:20070419T230000
SUMMARY:Autsajder
LOCATION:Kino Tuškanac
DESCRIPTION:Szabadgyalog, Mađarska, 1981 R: Béla Tarr
END:VEVENT
END:VCALENDAR