BEGIN:VCALENDAR
VERSION:2.0
PRODID:-//Kino Tuškanac//Filmski programi//HR
BEGIN:VEVENT
UID:32debbc8f09df584c3b60867cc547d2f@kinotuskanac.hr
DTSTAMP:20260423T143905Z
DTSTART:20070421T160000
DTEND:20070421T180000
SUMMARY:Sotonski tango
LOCATION:Kino Tuškanac
DESCRIPTION:Sátántangó, Mađarska, Njemačka, Švicarska, 1994 R: Béla Tarr
END:VEVENT
END:VCALENDAR