BEGIN:VCALENDAR
VERSION:2.0
PRODID:-//Kino Tuškanac//Filmski programi//HR
BEGIN:VEVENT
UID:294991d96443602f2d94b2b2e0ea9432@kinotuskanac.hr
DTSTAMP:20260423T112408Z
DTSTART:20070423T190000
DTEND:20070423T210000
SUMMARY:Almanah jeseni
LOCATION:Kino Tuškanac
DESCRIPTION:Őszi almanach, Mađarska, 1984 R: Béla Tarr
END:VEVENT
END:VCALENDAR