BEGIN:VCALENDAR
VERSION:2.0
PRODID:-//Kino Tuškanac//Filmski programi//HR
BEGIN:VEVENT
UID:640135a68423bc732dc0709e213b011f@kinotuskanac.hr
DTSTAMP:20260423T143906Z
DTSTART:20070425T160000
DTEND:20070425T180000
SUMMARY:Sotonski tango
LOCATION:Kino Tuškanac
DESCRIPTION:Sátántangó, Mađarska, Njemačka, Švicarska, 1994 R: Béla Tarr
END:VEVENT
END:VCALENDAR