BEGIN:VCALENDAR
VERSION:2.0
PRODID:-//Kino Tuškanac//Filmski programi//HR
BEGIN:VEVENT
UID:7cbcd0bf7706a16d3ed6f443f064729a@kinotuskanac.hr
DTSTAMP:20260419T225013Z
DTSTART:20070426T190000
DTEND:20070426T210000
SUMMARY:Prokletstvo
LOCATION:Kino Tuškanac
DESCRIPTION:Kárhozat, Mađarska, 1988 R: Béla Tarr
END:VEVENT
END:VCALENDAR