BEGIN:VCALENDAR
VERSION:2.0
PRODID:-//Kino Tuškanac//Filmski programi//HR
BEGIN:VEVENT
UID:d6d10addf5e610ba7b8965c4a573beac@kinotuskanac.hr
DTSTAMP:20260419T184019Z
DTSTART:20070428T210000
DTEND:20070428T230000
SUMMARY:Zločin i kazna
LOCATION:Kino Tuškanac
DESCRIPTION:Rikos ja rangaistus, Finska, 1983 R: Aki Kaurismäki
END:VEVENT
END:VCALENDAR