BEGIN:VCALENDAR
VERSION:2.0
PRODID:-//Kino Tuškanac//Filmski programi//HR
BEGIN:VEVENT
UID:16cf0c3daf47c03b2bf8993380e7ae32@kinotuskanac.hr
DTSTAMP:20260422T101957Z
DTSTART:20070519T210000
DTEND:20070519T230000
SUMMARY:Plutajući oblaci
LOCATION:Kino Tuškanac
DESCRIPTION:Kauas pilvet karkaavat, Finska, Njemačka, Francuska, 1996 R: Aki Kaurismäki
END:VEVENT
END:VCALENDAR