BEGIN:VCALENDAR
VERSION:2.0
PRODID:-//Kino Tuškanac//Filmski programi//HR
BEGIN:VEVENT
UID:c7ef86df5fc1b5eaa925688dec675932@kinotuskanac.hr
DTSTAMP:20260420T130532Z
DTSTART:20070521T190000
DTEND:20070521T210000
SUMMARY:Čovjek bez prošlosti
LOCATION:Kino Tuškanac
DESCRIPTION:Mies vailla menneisyyttä, Finska, Njemačka, Francuska, 2002 R: Aki Kaurismäki
END:VEVENT
END:VCALENDAR