BEGIN:VCALENDAR
VERSION:2.0
PRODID:-//Kino Tuškanac//Filmski programi//HR
BEGIN:VEVENT
UID:0092e2f0992408e511bbc157cb381099@kinotuskanac.hr
DTSTAMP:20260422T111901Z
DTSTART:20070606T190000
DTEND:20070606T210000
SUMMARY:Ukradeni balon
LOCATION:Kino Tuškanac
DESCRIPTION:Ukradená vzducholod, 1966 R: Karel Zeman
END:VEVENT
END:VCALENDAR