BEGIN:VCALENDAR
VERSION:2.0
PRODID:-//Kino Tuškanac//Filmski programi//HR
BEGIN:VEVENT
UID:c00211c972d67cf158d72b51571ca3da@kinotuskanac.hr
DTSTAMP:20260422T123125Z
DTSTART:20070608T210000
DTEND:20070608T230000
SUMMARY:Ukradeni balon
LOCATION:Kino Tuškanac
DESCRIPTION:Ukradená vzducholod, 1966 R: Karel Zeman
END:VEVENT
END:VCALENDAR